BEGIN:VCALENDAR
VERSION:2.0
PRODID:-//Philadelphia C-PACE - ECPv6.5.0//NONSGML v1.0//EN
CALSCALE:GREGORIAN
METHOD:PUBLISH
X-ORIGINAL-URL:https://philadelphiacpace.org
X-WR-CALDESC:Events for Philadelphia C-PACE
REFRESH-INTERVAL;VALUE=DURATION:PT1H
X-Robots-Tag:noindex
X-PUBLISHED-TTL:PT1H
BEGIN:VTIMEZONE
TZID:America/New_York
BEGIN:DAYLIGHT
TZOFFSETFROM:-0500
TZOFFSETTO:-0400
TZNAME:EDT
DTSTART:20260308T070000
END:DAYLIGHT
BEGIN:STANDARD
TZOFFSETFROM:-0400
TZOFFSETTO:-0500
TZNAME:EST
DTSTART:20261101T060000
END:STANDARD
END:VTIMEZONE
BEGIN:VEVENT
DTSTART;TZID=America/New_York:20260413T110500
DTEND;TZID=America/New_York:20260413T120500
DTSTAMP:20260420T062114
CREATED:20260413T091138Z
LAST-MODIFIED:20260413T091138Z
UID:5666-1776078300-1776081900@philadelphiacpace.org
SUMMARY:49th American Association of Blacks in Energy National Conference
DESCRIPTION:The AABE will host its 49th National Conference: “The Energy Renaissance\,” which Emily Schapira will speak as a panelist for a session\, “Bridging the Gap: Utility Assistance as a Gateway to Housing Stability\,” where she will discuss critical issues influencing the future of energy. This event will bring together hundreds of energy leaders to advance sustainability\, equity\, and innovation.
URL:https://philadelphiacpace.org/event/49th-american-association-of-blacks-in-energy-national-conference/
LOCATION:Hyatt Regency New Orleans\, 601 Loyola Avenue\, New Orleans\, LA\, 70113\, United States
END:VEVENT
END:VCALENDAR